BEGIN:VCALENDAR
VERSION:2.0
PRODID:-//Indian Psychiatric Society - South Zonal Branch - ECPv6.15.13//NONSGML v1.0//EN
CALSCALE:GREGORIAN
METHOD:PUBLISH
X-ORIGINAL-URL:https://ipsszb.org
X-WR-CALDESC:Events for Indian Psychiatric Society - South Zonal Branch
REFRESH-INTERVAL;VALUE=DURATION:PT1H
X-Robots-Tag:noindex
X-PUBLISHED-TTL:PT1H
BEGIN:VTIMEZONE
TZID:UTC
BEGIN:STANDARD
TZOFFSETFROM:+0000
TZOFFSETTO:+0000
TZNAME:UTC
DTSTART:20210101T000000
END:STANDARD
END:VTIMEZONE
BEGIN:VEVENT
DTSTART;TZID=UTC:20230429T083000
DTEND;TZID=UTC:20230430T123000
DTSTAMP:20260423T152928
CREATED:20230408T051231Z
LAST-MODIFIED:20230408T052839Z
UID:1661-1682757000-1682857800@ipsszb.org
SUMMARY:CME for Practitioners 2023
DESCRIPTION:Perils to Perils: From Practice Challenges to Practical Solutions 29th and 30th April 2023 Kozhikode
URL:https://ipsszb.org/event/cme-for-practitioners-2023/
LOCATION:Venue : Manuelson’s Malabar Palace Kozhikode\, Kerala\, India
CATEGORIES:Upcoming Events
ATTACH;FMTTYPE=image/jpeg:https://ipsszb.org/wp-content/uploads/2023/04/final-one-1.jpg
END:VEVENT
BEGIN:VEVENT
DTSTART;TZID=UTC:20230408T083000
DTEND;TZID=UTC:20230409T170000
DTSTAMP:20260423T152928
CREATED:20230420T054120Z
LAST-MODIFIED:20230420T054407Z
UID:2309-1680942600-1681059600@ipsszb.org
SUMMARY:Report of CAP workshop St John's April 8th-9th 2023
DESCRIPTION:Report of the Two-day Workshop in Child and Adolescent Psychiatry held at St. John’s Medical College\, Bangalore on April 8-9th\, 2023 in association with IPS-South Zonal Branchand IPS Karnataka Chapter \n  \nRead More
URL:https://ipsszb.org/event/report-of-cap-workshop-st-johns-april-8th-9th-2023/
CATEGORIES:Upcoming Events
END:VEVENT
BEGIN:VEVENT
DTSTART;TZID=UTC:20221014T083000
DTEND;TZID=UTC:20221016T170000
DTSTAMP:20260423T152928
CREATED:20230420T051702Z
LAST-MODIFIED:20230420T051702Z
UID:2302-1665736200-1665939600@ipsszb.org
SUMMARY:IPSOCON 2022
DESCRIPTION:Reframing Psychiatric Disorders and Interventions in the New Normal World – 14 – 16 October\, 2022\, Thiruvananthapuram.
URL:https://ipsszb.org/event/ipsocon-2022/
CATEGORIES:Upcoming Events
END:VEVENT
BEGIN:VEVENT
DTSTART;TZID=UTC:20220625T080000
DTEND;TZID=UTC:20220626T170000
DTSTAMP:20260423T152928
CREATED:20230420T051941Z
LAST-MODIFIED:20230420T051941Z
UID:2304-1656144000-1656262800@ipsszb.org
SUMMARY:IPSSZB PG Training
DESCRIPTION:Dilemmas of Co-morbidities in Psychiatric Disorders – 25 – 26 June\, 2022 Hyderabad.
URL:https://ipsszb.org/event/ipsszb-pg-training/
CATEGORIES:Upcoming Events
END:VEVENT
END:VCALENDAR